BEGIN:VCALENDAR
VERSION:2.0
PRODID:Concerto da banda infantil \"Os Loivitos\"
X-WR-CALNAME:Concerto da banda infantil \"Os Loivitos\"
X-WR-TIMEZONE:Europe/Lisbon
X-PUBLISHED-TTL:P1W
BEGIN:VTIMEZONE
TZID:Europe/Lisbon
X-LIC-LOCATION:Europe/Lisbon
END:VTIMEZONE
BEGIN:VEVENT
UID:69e73790b0bfd
DTSTART;VALUE=DATE:20250518
SEQUENCE:0
TRANSP:OPAQUE
DTEND;VALUE=DATE:20250519
SUMMARY:Concerto da banda infantil \"Os Loivitos\"
CLASS:PUBLIC
DESCRIPTION:Integrado no programa do centenário da Vila de Vidago\,\, real
 iza-se no domingo dia 18/05/2025 pelas 18:30 horas\, no auditório do Vida
 go Palace Hotel\, um concerto com a banda infantil \" Os Loivitos\" com en
 trada gratuita.
X-MICROSOFT-CDO-ALLDAYEVENT:TRUE
DTSTAMP:20260421T083840Z
END:VEVENT
END:VCALENDAR