BEGIN:VCALENDAR
VERSION:2.0
PRODID:Exposição na Galeria de Arte - Capela do cabo
X-WR-CALNAME:Exposição na Galeria de Arte - Capela do cabo
X-WR-TIMEZONE:Europe/Lisbon
X-PUBLISHED-TTL:P1W
BEGIN:VTIMEZONE
TZID:Europe/Lisbon
X-LIC-LOCATION:Europe/Lisbon
END:VTIMEZONE
BEGIN:VEVENT
UID:69ecc4ae4144b
DTSTART;VALUE=DATE:20250614
SEQUENCE:0
TRANSP:OPAQUE
DTEND;VALUE=DATE:20250615
SUMMARY:Exposição na Galeria de Arte - Capela do cabo
CLASS:PUBLIC
DESCRIPTION:O Executivo da União de Freguesias de Vidago\, convida toda a 
 população a visitar a Exposição do pintor da nossa terra\, Júlio Rama
 da\, na galeria de arte\, na Capela do Cabo\, que é inaugurada dia 14/06/
 2025 às 18:00 horas.
X-MICROSOFT-CDO-ALLDAYEVENT:TRUE
DTSTAMP:20260425T134206Z
END:VEVENT
END:VCALENDAR